BEGIN:VCALENDAR
VERSION:2.0
PRODID:-//wp-events-plugin.com//7.2.3.1//EN
BEGIN:VEVENT
UID:197@dilstonphysicgarden.com
DTSTART:20241130T110000Z
DTEND:20241130T160000Z
DTSTAMP:20241126T163654Z
URL:https://dilstonphysicgarden.com/events/aromatics-in-the-garden-open-co
 mmunity-event/
SUMMARY:Christmas Aromatics Day
DESCRIPTION:It's that time of year again! Celebrate the season with a festi
 ve day of winter botanicals\, guided tours and a seasonal tea-making works
 hop. In between wandering around the garden there are plenty of festive ac
 tivities to discover as you enjoy the garden’s winter delights for the l
 ast event of the year:\n\n 	Warm up by the fire at the sitooterie with som
 e of our festive refreshments - mulled wine\, botanical teas\, roasted che
 stnuts and sweet treats!\n 	Take part in our drop-in tea-making workshop a
 nd go home with your very own winter tea blend\n 	Join one of our guided e
 ducational tours\, scheduled throughout the day\n 	Discover stocking fille
 rs and other gifts for the botanically minded at the physic shop\n\nThe ga
 rden will be open from 11am to 4pm. General admission is free\, but any ki
 nd donations will go to funding future events and community programs for 2
 025. There will also be a £10 fee per person for the winter tea-making dr
 op-in workshop.\n\nBring warm clothes and appropriate footwear\, and also 
 your curiosity and a sense of wonder—come ready to make\, taste\, and sa
 vour the scents of the season!
ATTACH;FMTTYPE=image/jpeg:https://dilstonphysicgarden.com/wp-content/uploa
 ds/2022/11/Japanese-Acer-300.png
LOCATION:Dilston Physic Garden\, Dilston Physic Garden\, Dilston\, Corbridg
 e\, Northumberland\, NE45 5QZ\, United Kingdom
X-APPLE-STRUCTURED-LOCATION;VALUE=URI;X-ADDRESS=Dilston Physic Garden\, Dil
 ston\, Corbridge\, Northumberland\, NE45 5QZ\, United Kingdom;X-APPLE-RADI
 US=100;X-TITLE=Dilston Physic Garden:geo:0,0
END:VEVENT
END:VCALENDAR