BEGIN:VCALENDAR
VERSION:2.0
PRODID:-//wp-events-plugin.com//7.2.3.1//EN
BEGIN:VEVENT
UID:11@dilstonphysicgarden.com
DTSTART:20230428T123000Z
DTEND:20230428T143000Z
DTSTAMP:20240705T083239Z
URL:https://dilstonphysicgarden.com/events/botanical-brain-balms-memory-an
 d-mood/
SUMMARY:Botanical Brain Balms: Memory & Mood*
DESCRIPTION:Dilston Physic Garden's pharmacognosist and neuroscientist brin
 g to light the important plant medicines that are shown by scientific rese
 arch to improve our memory and mood. Discover their folklore and tradition
 al use\, their key chemical ingredients and how the brain uses these bioac
 tives to improve attention and mood. Explore the valuable place plant medi
 cine has in the history of medicine and contribute to your understanding o
 f plant medicine for the mind. Engage with the aromatics oils\, medicinal 
 teas and snacks. Botanical Brain Balms: Calm &amp\; Sleep' runs in October
 .\n\n£20 (Concessions £15). Parking for all workshops and events is in o
 ur Top-up Car park shared with Dilston Scouts.\n\n"Just wanted to let you 
 know how much we enjoyed your session today. I was already planning to rev
 amp my herb bed and have bought an additional herb bed on legs. I will be 
 using the books that I purchased today to plan which herbs I will be addin
 g. I’m very excited" Lynne &amp\; Bernard.
ATTACH;FMTTYPE=image/jpeg:https://dilstonphysicgarden.com/wp-content/uploa
 ds/2022/11/original-29.jpeg
LOCATION:Dilston Physic Garden\, Dilston Physic Garden\, Dilston\, Corbridg
 e\, Northumberland\, NE45 5QZ\, United Kingdom
X-APPLE-STRUCTURED-LOCATION;VALUE=URI;X-ADDRESS=Dilston Physic Garden\, Dil
 ston\, Corbridge\, Northumberland\, NE45 5QZ\, United Kingdom;X-APPLE-RADI
 US=100;X-TITLE=Dilston Physic Garden:geo:0,0
END:VEVENT
END:VCALENDAR