BEGIN:VCALENDAR
VERSION:2.0
PRODID:-//wp-events-plugin.com//7.2.3.1//EN
BEGIN:VEVENT
UID:280@dilstonphysicgarden.com
DTSTART:20261004T100000Z
DTEND:20261004T120000Z
DTSTAMP:20260216T144454Z
URL:https://dilstonphysicgarden.com/events/essential-herbs-everyone-should
 -keep-in-their-medicine-cabinet-5/
SUMMARY:*Essential Herbs Everyone Should Keep in their Medicine Cabinet
DESCRIPTION:With this workshop be empowered to take care of yourself and yo
 ur family using a few safe\, popular herbs. This workshop is 2 hours packe
 d with knowledge and practical tips\, exploring properties of herbs which 
 would enable you to put them to use as medicine to remedy a variety of com
 mon complaints. You'll also have an opportunity to explore the beautiful D
 ilston Physic Garden\, where you can learn and experience much more about 
 herbs.\nEach of Milena's workshops are self-contained and can be booked se
 parately\, including those on the same day so you can book on both and enj
 oy the garden in between.\nCost: £40 (payment on booking)\nParking for wo
 rkshops and events is in our topup carpark shared with Dilston Scouts - 
 directions and visitor info\nAbout the tutor: Workshop is led by Milena wh
 o is a pharmacist\, qualified in Poland where\, as in much of Europe\, pla
 nt medicine constitutes a substantial part of the pharmacy stock and are c
 ommonly used for the management of minor ailments. She is here to share he
 r knowledge and let you take care of yourself in a natural way!\nFor booki
 ngs please contact: milena.kopkowska@gmail.com
ATTACH;FMTTYPE=image/jpeg:https://dilstonphysicgarden.com/wp-content/uploa
 ds/2021/07/lavender.jpg
CATEGORIES:Plant Medicine Remedies
LOCATION:Dilston Physic Garden\, Dilston Physic Garden\, Dilston\, Corbridg
 e\, Northumberland\, NE45 5QZ\, United Kingdom
X-APPLE-STRUCTURED-LOCATION;VALUE=URI;X-ADDRESS=Dilston Physic Garden\, Dil
 ston\, Corbridge\, Northumberland\, NE45 5QZ\, United Kingdom;X-APPLE-RADI
 US=100;X-TITLE=Dilston Physic Garden:geo:0,0
END:VEVENT
END:VCALENDAR