BEGIN:VCALENDAR
VERSION:2.0
PRODID:-//wp-events-plugin.com//7.2.3.1//EN
BEGIN:VEVENT
UID:28@dilstonphysicgarden.com
DTSTART:20230707T100000Z
DTEND:20230709T160000Z
DTSTAMP:20240705T083230Z
URL:https://dilstonphysicgarden.com/events/foundation-in-plant-medicine-20
 23-pt-1/
SUMMARY:Foundation In Plant Medicine 2023 - Part 2
DESCRIPTION:Discover the vital power of plants for health and medicine with
  this practical immersive course over four seasonal weekends (10 days). Le
 arn how to use medicinal plants and make your own plant medicines to effec
 tively treat many minor ailments and health issues we encounter in everyda
 y life. Along the way uncover some fascinating history\, folklore and scie
 nce behind the principles of plant medicine.\n\nSecond weekend of a ten da
 y 4-weekend course. Each session is designed to be informative\, friendly 
 and fun and are complete beginner’s guide – no previous knowledge need
 ed. Make safe plant medicines across the seasons in the tranquil setting o
 f Dilston Physic Garden.  Run by medical herbalists Jill Schnabel\, Sarah
  Hughes &amp\; Ross Menzies\, with pharmacognosist Nicolette Perry.\n\n£7
 50 for 10-day (or spread payments of £75 over 10 months).\n\nParking for 
 this event is in the Top-up Car-park shared with Dilston Scouts – direct
 ions.\n\n2023 COURSE FULLY BOOKED
ATTACH;FMTTYPE=image/jpeg:https://dilstonphysicgarden.com/wp-content/uploa
 ds/2021/09/Foundation-in-Plant-Medicine-students-2021-Dilston-Physic-Garde
 n--scaled.jpg
LOCATION:Dilston Physic Garden\, Dilston Physic Garden\, Dilston\, Corbridg
 e\, Northumberland\, NE45 5QZ\, United Kingdom
X-APPLE-STRUCTURED-LOCATION;VALUE=URI;X-ADDRESS=Dilston Physic Garden\, Dil
 ston\, Corbridge\, Northumberland\, NE45 5QZ\, United Kingdom;X-APPLE-RADI
 US=100;X-TITLE=Dilston Physic Garden:geo:0,0
END:VEVENT
END:VCALENDAR