BEGIN:VCALENDAR
VERSION:2.0
PRODID:-//wp-events-plugin.com//7.2.3.1//EN
BEGIN:VEVENT
UID:287@dilstonphysicgarden.com
DTSTART:20260726T100000Z
DTEND:20260726T130000Z
DTSTAMP:20260226T150239Z
URL:https://dilstonphysicgarden.com/events/guest-workshop-art-in-the-garde
 n-drawing-and-painting-workshop-indoors-and-out-in-the-garden/
SUMMARY:Guest Workshop: Art in the Garden: Drawing and Painting Workshop\, 
 Indoors and Out in the Garden
DESCRIPTION:On this half-day drawing and painting course\, you’ll be guid
 ed you through observation techniques and drawing\, sketching and watercol
 our methods including capturing perspective\, creating depth and contrast\
 , using colour wash and mark making. We’ll look at the joy of recreating
  our love of plants and gardens through art and of recording directly from
  nature and explore different materials including pencils\, inks and water
 colours. The workshop will teach techniques and methods which will build c
 onfidence in working outdoors\, directly observing from nature. Level: Sui
 table for beginners and experienced artists alike.\nWe’ll be indoors and
  out in a small group to ensure time for personal attention\, working dire
 ctly from life out in the beautiful Dilston Physic Garden where weather pe
 rmits\, with the comfort of a warm room to retreat to when necessary!\nPle
 ase bring suitable clothing and footwear for walking and sitting outside\,
  something to sit on (camping stool\, picnic mat or gardening kneeler)\, a
 ny art materials you wish to bring\, a water bottle for both your own refr
 eshment and to top up your painting water and snacks as you wish. Tea and 
 coffee will be available in the classroom.\nCost: £50\nTo Book: Please co
 ntact Niki on nikihblack@gmail.com or https://www.ticketsource.co.uk/nikib
 lackart\nParking: Parking for this event is in the Top-up Car Park shared
  with Dilston Scouts. (Google Maps directions link\, or What Three Words:
  pigs.clipped.mills)\nFor more information about visiting the garden see o
 ur Visit Us page. Please get in touch if you have queries/concerns about
  disability access via info@dilstonphysicgarden.com\nTutor: Niki Black is
  an experienced freelance artist and art tutor. Based in Stocksfield\, Nor
 thumberland\, Niki works in inks\, watercolour and acrylic\, drawing inspi
 ration from the beautiful woods and natural environment on her doorstep. h
 ttps://www.nikiblack.co.uk/
ATTACH;FMTTYPE=image/jpeg:https://dilstonphysicgarden.com/wp-content/uploa
 ds/2026/02/Rioting-Thistles-scaled.jpeg
CATEGORIES:Art,Wellbeing Craft
LOCATION:Dilston Physic Garden\, Dilston Physic Garden\, Dilston\, Corbridg
 e\, Northumberland\, NE45 5QZ\, United Kingdom
X-APPLE-STRUCTURED-LOCATION;VALUE=URI;X-ADDRESS=Dilston Physic Garden\, Dil
 ston\, Corbridge\, Northumberland\, NE45 5QZ\, United Kingdom;X-APPLE-RADI
 US=100;X-TITLE=Dilston Physic Garden:geo:0,0
END:VEVENT
END:VCALENDAR