BEGIN:VCALENDAR
VERSION:2.0
PRODID:-//wp-events-plugin.com//7.2.3.1//EN
BEGIN:VEVENT
UID:298@dilstonphysicgarden.com
DTSTART:20261205T100000Z
DTEND:20261205T160000Z
DTSTAMP:20260403T135436Z
URL:https://dilstonphysicgarden.com/events/guest-workshop-be-a-wild-wisewo
 man-for-a-day-with-juno-quaintrell-2/
SUMMARY:Guest Workshop: Be a wild wisewoman for a day\, with Juno Quaintrel
 l
DESCRIPTION:A day to play - come as yourself!\nLove of earth and each other
 . Areas covered: inner balance\, how to have a relationship with nature\, 
 foraging\, bushcraft\, wellbeing\, basic herbalism\, learning to work thro
 ugh big life issues with nature\, marking life’s big moments and celebra
 tions\nCost: £95. Please bring lunch!\nBooking: for enquiries and booking
  please contact juno@eden-rooted.co.uk\n\nParking: Parking for this event 
 is in the Top-up Car Park shared with Dilston Scouts. (Google Maps directi
 ons link\, or What Three Words: pigs.clipped.mills)\nFor more information 
 about visiting the garden see our Visit Us page. Please get in touch if yo
 u have queries/concerns about disability access via info@dilstonphysicgard
 en.com\n\nTutor: Dr Juno Quaintrell EDEN ROOTED | natural gardens and natu
 re connection
ATTACH;FMTTYPE=image/jpeg:https://dilstonphysicgarden.com/wp-content/uploa
 ds/2026/03/Juno-Dec-2026.jpg
CATEGORIES:Nature,Retreat,wellbeing
LOCATION:Dilston Physic Garden\, Dilston Physic Garden\, Dilston\, Corbridg
 e\, Northumberland\, NE45 5QZ\, United Kingdom
X-APPLE-STRUCTURED-LOCATION;VALUE=URI;X-ADDRESS=Dilston Physic Garden\, Dil
 ston\, Corbridge\, Northumberland\, NE45 5QZ\, United Kingdom;X-APPLE-RADI
 US=100;X-TITLE=Dilston Physic Garden:geo:0,0
END:VEVENT
END:VCALENDAR