BEGIN:VCALENDAR
VERSION:2.0
PRODID:-//wp-events-plugin.com//7.2.3.1//EN
BEGIN:VEVENT
UID:294@dilstonphysicgarden.com
DTSTART:20260801T100000Z
DTEND:20260801T160000Z
DTSTAMP:20260403T135226Z
URL:https://dilstonphysicgarden.com/events/guest-workshop-be-a-wild-wisewo
 man-for-a-day-with-juno-quaintrell/
SUMMARY:Guest Workshop: Be a wild wisewoman for a day! with Juno Quaintrell
DESCRIPTION:A day to play - come as yourself!\nLove of earth and each other
 . Areas covered: inner balance\, how to have a relationship with nature\, 
 foraging\, bushcraft\, wellbeing\, basic herbalism\, learning to work thro
 ugh big life issues with nature\, marking life’s big moments.\nCost: £9
 5. Please bring lunch!\nBooking: for enquiries and booking please contact 
 juno@eden-rooted.co.uk\n\nParking: Parking for this event is in the Top-up
  Car Park shared with Dilston Scouts. (Google Maps directions link\, or Wh
 at Three Words: pigs.clipped.mills)\nFor more information about visiting t
 he garden see our Visit Us page. Please get in touch if you have queries/c
 oncerns about disability access via info@dilstonphysicgarden.com\n\nTutor:
  Dr Juno Quaintrell EDEN ROOTED | natural gardens and nature connection
ATTACH;FMTTYPE=image/jpeg:https://dilstonphysicgarden.com/wp-content/uploa
 ds/2026/03/Juno-01.08.26.jpg
CATEGORIES:Nature,Retreat,wellbeing
LOCATION:Dilston Physic Garden\, Dilston Physic Garden\, Dilston\, Corbridg
 e\, Northumberland\, NE45 5QZ\, United Kingdom
X-APPLE-STRUCTURED-LOCATION;VALUE=URI;X-ADDRESS=Dilston Physic Garden\, Dil
 ston\, Corbridge\, Northumberland\, NE45 5QZ\, United Kingdom;X-APPLE-RADI
 US=100;X-TITLE=Dilston Physic Garden:geo:0,0
END:VEVENT
END:VCALENDAR