BEGIN:VCALENDAR
VERSION:2.0
PRODID:-//wp-events-plugin.com//7.2.3.1//EN
BEGIN:VEVENT
UID:295@dilstonphysicgarden.com
DTSTART:20260920T100000Z
DTEND:20260920T160000Z
DTSTAMP:20260403T135303Z
URL:https://dilstonphysicgarden.com/events/guest-workshop-between-seasons-
 a-nature-centred-workshop-for-women-at-a-difficult-crossroads-with-juno-qu
 aintrell/
SUMMARY:Guest Workshop: Between seasons: a nature-centred workshop for  wom
 en at a difficult crossroads with Juno Quaintrell
DESCRIPTION:When life gets hard\, nature offers a different kind of thinkin
 g space. A day to find your footing\nCost: £95. Please bring lunch!\nBook
 ing: for enquiries and booking please contact juno@eden-rooted.co.uk\n\nPa
 rking: Parking for this event is in the Top-up Car Park shared with Dilsto
 n Scouts. (Google Maps directions link\, or What Three Words: pigs.clipped
 .mills)\nFor more information about visiting the garden see our Visit Us p
 age. Please get in touch if you have queries/concerns about disability acc
 ess via info@dilstonphysicgarden.com\n\nTutor: Dr Juno Quaintrell EDEN ROO
 TED | natural gardens and nature connection
ATTACH;FMTTYPE=image/jpeg:https://dilstonphysicgarden.com/wp-content/uploa
 ds/2026/03/Juno-Sept-2026.jpg
CATEGORIES:Nature,Retreat,wellbeing
LOCATION:Dilston Physic Garden\, Dilston Physic Garden\, Dilston\, Corbridg
 e\, Northumberland\, NE45 5QZ\, United Kingdom
X-APPLE-STRUCTURED-LOCATION;VALUE=URI;X-ADDRESS=Dilston Physic Garden\, Dil
 ston\, Corbridge\, Northumberland\, NE45 5QZ\, United Kingdom;X-APPLE-RADI
 US=100;X-TITLE=Dilston Physic Garden:geo:0,0
END:VEVENT
END:VCALENDAR