BEGIN:VCALENDAR
VERSION:2.0
PRODID:-//wp-events-plugin.com//7.2.3.1//EN
BEGIN:VEVENT
UID:288@dilstonphysicgarden.com
DTSTART:20260809T100000Z
DTEND:20260809T160000Z
DTSTAMP:20260226T180152Z
URL:https://dilstonphysicgarden.com/events/guest-workshop-the-alchemy-of-a
 rt-and-aroma-the-enchanted-life-of-plants/
SUMMARY:Guest Workshop: The Alchemy of Art and Aroma: The Enchanted Life of
  Plants
DESCRIPTION:We'll craft a botanical blend\, connect with the elements and g
 oddesses\, and express the spirit of the plants through paint.\n\nCost: £
 80 including all materials and light refreshments\nTo Book: Please contact
  Emily or book here: www.eccarterart.com/artclasses\nParking: Parking for 
 this event is in the Top-up Car Park shared with Dilston Scouts. (Google M
 aps directions link\, or What Three Words: pigs.clipped.mills)\nFor more i
 nformation about visiting the garden see our Visit Us page. Please get in 
 touch if you have queries/concerns about disability access via info@dilsto
 nphysicgarden.com\n\nTutors: Anne Polet and Emily Carter www.eccarterart.c
 om\n
ATTACH;FMTTYPE=image/jpeg:https://dilstonphysicgarden.com/wp-content/uploa
 ds/2026/02/dilston-square.jpg
CATEGORIES:Art,Wellbeing Craft
LOCATION:Dilston Physic Garden\, Dilston Physic Garden\, Dilston\, Corbridg
 e\, Northumberland\, NE45 5QZ\, United Kingdom
X-APPLE-STRUCTURED-LOCATION;VALUE=URI;X-ADDRESS=Dilston Physic Garden\, Dil
 ston\, Corbridge\, Northumberland\, NE45 5QZ\, United Kingdom;X-APPLE-RADI
 US=100;X-TITLE=Dilston Physic Garden:geo:0,0
END:VEVENT
END:VCALENDAR