BEGIN:VCALENDAR
VERSION:2.0
PRODID:-//wp-events-plugin.com//7.2.3.1//EN
BEGIN:VEVENT
UID:291@dilstonphysicgarden.com
DTSTART:20260510T100000Z
DTEND:20260510T160000Z
DTSTAMP:20260326T165844Z
URL:https://dilstonphysicgarden.com/events/guest-workshop-the-examined-lif
 e-a-nature-centred-workshop-for-women-seeking-purpose-with-juno-quaintrell
 /
SUMMARY:Guest Workshop: The examined life: a nature-centred workshop for wo
 men seeking purpose\, with Juno Quaintrell
DESCRIPTION:A day in nature to explore perhaps the biggest of personal ques
 tions and work out your next step\nCost: £60. Please bring lunch!\nBookin
 g: for enquiries and booking please contact juno@eden-rooted.co.uk\n\nPark
 ing: Parking for this event is in the Top-up Car Park shared with Dilston 
 Scouts. (Google Maps directions link\, or What Three Words: pigs.clipped.m
 ills)\nFor more information about visiting the garden see our Visit Us pag
 e. Please get in touch if you have queries/concerns about disability acces
 s via info@dilstonphysicgarden.com\n\nTutor: Dr Juno Quaintrell EDEN ROOTE
 D | natural gardens and nature connection
ATTACH;FMTTYPE=image/jpeg:https://dilstonphysicgarden.com/wp-content/uploa
 ds/2026/03/Juno-10.05.26.jpg
CATEGORIES:Nature,Retreat,wellbeing
LOCATION:Dilston Physic Garden\, Dilston Physic Garden\, Dilston\, Corbridg
 e\, Northumberland\, NE45 5QZ\, United Kingdom
X-APPLE-STRUCTURED-LOCATION;VALUE=URI;X-ADDRESS=Dilston Physic Garden\, Dil
 ston\, Corbridge\, Northumberland\, NE45 5QZ\, United Kingdom;X-APPLE-RADI
 US=100;X-TITLE=Dilston Physic Garden:geo:0,0
END:VEVENT
END:VCALENDAR