BEGIN:VCALENDAR
VERSION:2.0
PRODID:-//wp-events-plugin.com//7.2.3.1//EN
BEGIN:VEVENT
UID:289@dilstonphysicgarden.com
DTSTART:20260404T100000Z
DTEND:20260404T160000Z
DTSTAMP:20260326T165409Z
URL:https://dilstonphysicgarden.com/events/guest-workshop-the-green-season
 -celebrating-spring-herbs-and-new-beginnings-with-juno-quaintrell/
SUMMARY:Guest Workshop: The Green Season: Celebrating Spring\, Herbs and Ne
 w Beginnings\, with Juno Quaintrell
DESCRIPTION:April at Dilston Physic Garden is nothing short of miraculous\,
  the beds are waking\, the air smells of earth and promise\, and the herbs
  are reaching for the light. This day long gathering invites you to drink 
 it all in. We'll forage\, make a traditional spring tonic\, and weave toge
 ther the wisdom of the natural world with our own experiences of renewal\,
  transition\, and the particular joy of becoming more fully ourselves. A d
 ay to nourish body\, mind and spirit\, with mud on our boots and hope in o
 ur hearts.\n\nCost: £60. Please bring lunch!\nBooking: for enquiries and 
 booking please contact juno@eden-rooted.co.uk\n\nParking: Parking for this
  event is in the Top-up Car Park shared with Dilston Scouts. (Google Maps 
 directions link\, or What Three Words: pigs.clipped.mills)\nFor more infor
 mation about visiting the garden see our Visit Us page. Please get in touc
 h if you have queries/concerns about disability access via info@dilstonphy
 sicgarden.com\n\nTutor: Dr Juno Quaintrell EDEN ROOTED | natural gardens a
 nd nature connection
ATTACH;FMTTYPE=image/jpeg:https://dilstonphysicgarden.com/wp-content/uploa
 ds/2026/03/Violets-and-celandines.jpeg
CATEGORIES:Nature,wellbeing
LOCATION:Dilston Physic Garden\, Dilston Physic Garden\, Dilston\, Corbridg
 e\, Northumberland\, NE45 5QZ\, United Kingdom
X-APPLE-STRUCTURED-LOCATION;VALUE=URI;X-ADDRESS=Dilston Physic Garden\, Dil
 ston\, Corbridge\, Northumberland\, NE45 5QZ\, United Kingdom;X-APPLE-RADI
 US=100;X-TITLE=Dilston Physic Garden:geo:0,0
END:VEVENT
END:VCALENDAR