BEGIN:VCALENDAR
VERSION:2.0
PRODID:-//wp-events-plugin.com//7.2.3.1//EN
BEGIN:VEVENT
UID:292@dilstonphysicgarden.com
DTSTART:20260620T100000Z
DTEND:20260620T160000Z
DTSTAMP:20260403T135107Z
URL:https://dilstonphysicgarden.com/events/guest-workshop-the-user-friendl
 y-guide-to-happiness-through-a-relationship-with-nature-with-juno-quaintre
 ll/
SUMMARY:Guest Workshop: The user-friendly guide to happiness through a rela
 tionship with nature\, with Juno Quaintrell
DESCRIPTION:See how easy and effective a relationship with nature can be\, 
 and what a difference it can make for you and for Earth\nCost: £95. Pleas
 e bring lunch!\nBooking: for enquiries and booking please contact juno@ede
 n-rooted.co.uk\n\nParking: Parking for this event is in the Top-up Car Par
 k shared with Dilston Scouts. (Google Maps directions link\, or What Three
  Words: pigs.clipped.mills)\nFor more information about visiting the garde
 n see our Visit Us page. Please get in touch if you have queries/concerns 
 about disability access via info@dilstonphysicgarden.com\n\nTutor: Dr Juno
  Quaintrell EDEN ROOTED | natural gardens and nature connection
ATTACH;FMTTYPE=image/jpeg:https://dilstonphysicgarden.com/wp-content/uploa
 ds/2026/03/Juno-20.06.26.jpg
CATEGORIES:Nature,Retreat,wellbeing
LOCATION:Dilston Physic Garden\, Dilston Physic Garden\, Dilston\, Corbridg
 e\, Northumberland\, NE45 5QZ\, United Kingdom
X-APPLE-STRUCTURED-LOCATION;VALUE=URI;X-ADDRESS=Dilston Physic Garden\, Dil
 ston\, Corbridge\, Northumberland\, NE45 5QZ\, United Kingdom;X-APPLE-RADI
 US=100;X-TITLE=Dilston Physic Garden:geo:0,0
END:VEVENT
END:VCALENDAR