BEGIN:VCALENDAR
VERSION:2.0
PRODID:-//wp-events-plugin.com//7.2.3.1//EN
BEGIN:VEVENT
UID:297@dilstonphysicgarden.com
DTSTART:20261120T100000Z
DTEND:20261120T160000Z
DTSTAMP:20260403T135412Z
URL:https://dilstonphysicgarden.com/events/guest-workshop-turning-inward-a
 -nature-centred-workshop-on-darkness-depth-and-the-gifts-of-the-shadow-wit
 h-juno-quaintrell/
SUMMARY:Guest Workshop: Turning inward: a nature-centred workshop on darkne
 ss\, depth and the gifts of the shadow\, with Juno Quaintrell
DESCRIPTION:As the light diminishes and the land turns towards rest\, we fo
 llow it inward.\nThis is the season of depth\, and this nature-centred day
  works with the things we’d rather not look at: the fears\, the losses\,
  the unlived parts of a life. Not to dwell\, but to compost — because in
  nature\, what dies becomes rich ground for what comes next\nCost: £95. P
 lease bring lunch!\nBooking: for enquiries and booking please contact juno
 @eden-rooted.co.uk\n\nParking: Parking for this event is in the Top-up Car
  Park shared with Dilston Scouts. (Google Maps directions link\, or What T
 hree Words: pigs.clipped.mills)\nFor more information about visiting the g
 arden see our Visit Us page. Please get in touch if you have queries/conce
 rns about disability access via info@dilstonphysicgarden.com\n\nTutor: Dr 
 Juno Quaintrell EDEN ROOTED | natural gardens and nature connection
ATTACH;FMTTYPE=image/jpeg:https://dilstonphysicgarden.com/wp-content/uploa
 ds/2026/03/Juno-Nov-2026.jpg
CATEGORIES:Nature,Retreat,wellbeing
LOCATION:Dilston Physic Garden\, Dilston Physic Garden\, Dilston\, Corbridg
 e\, Northumberland\, NE45 5QZ\, United Kingdom
X-APPLE-STRUCTURED-LOCATION;VALUE=URI;X-ADDRESS=Dilston Physic Garden\, Dil
 ston\, Corbridge\, Northumberland\, NE45 5QZ\, United Kingdom;X-APPLE-RADI
 US=100;X-TITLE=Dilston Physic Garden:geo:0,0
END:VEVENT
END:VCALENDAR