BEGIN:VCALENDAR
VERSION:2.0
PRODID:-//wp-events-plugin.com//7.2.3.1//EN
BEGIN:VEVENT
UID:293@dilstonphysicgarden.com
DTSTART:20260702T100000Z
DTEND:20260702T160000Z
DTSTAMP:20260403T135157Z
URL:https://dilstonphysicgarden.com/events/guest-workshop-what-the-land-is
 -telling-you-about-your-purpose-with-juno-quaintrell/
SUMMARY:Guest Workshop: What the land is telling you about your purpose\, w
 ith Juno Quaintrell
DESCRIPTION:High summer\, and the land is in full voice. This is the day we
  work most directly with nature as guide and oracle: learning to read its 
 metaphors\, to sit with a question and let the natural world respond in it
 s own language.\nA day of deeper listening\, journaling\, and beginning to
  hear with more clarity what your life is asking of you\nCost: £95. Pleas
 e bring lunch!\nBooking: for enquiries and booking please contact juno@ede
 n-rooted.co.uk\n\nParking: Parking for this event is in the Top-up Car Par
 k shared with Dilston Scouts. (Google Maps directions link\, or What Three
  Words: pigs.clipped.mills)\nFor more information about visiting the garde
 n see our Visit Us page. Please get in touch if you have queries/concerns 
 about disability access via info@dilstonphysicgarden.com\n\nTutor: Dr Juno
  Quaintrell EDEN ROOTED | natural gardens and nature connection
ATTACH;FMTTYPE=image/jpeg:https://dilstonphysicgarden.com/wp-content/uploa
 ds/2026/03/Juno-02.07.26.jpg
CATEGORIES:Nature,Retreat,wellbeing
LOCATION:Dilston Physic Garden\, Dilston Physic Garden\, Dilston\, Corbridg
 e\, Northumberland\, NE45 5QZ\, United Kingdom
X-APPLE-STRUCTURED-LOCATION;VALUE=URI;X-ADDRESS=Dilston Physic Garden\, Dil
 ston\, Corbridge\, Northumberland\, NE45 5QZ\, United Kingdom;X-APPLE-RADI
 US=100;X-TITLE=Dilston Physic Garden:geo:0,0
END:VEVENT
END:VCALENDAR