BEGIN:VCALENDAR
VERSION:2.0
PRODID:-//wp-events-plugin.com//7.2.3.1//EN
BEGIN:VEVENT
UID:296@dilstonphysicgarden.com
DTSTART:20261010T100000Z
DTEND:20261010T160000Z
DTSTAMP:20260403T135345Z
URL:https://dilstonphysicgarden.com/events/guest-workshop-yield-a-nature-c
 entred-workshop-for-women-ready-to-gather-what-theyve-grown-and-let-go-the
 -rest-with-juno-quaintrell/
SUMMARY:Guest Workshop: Yield: a nature-centred workshop for women ready to
  gather what they've grown and let go the rest\, with Juno Quaintrell
DESCRIPTION:Late autumn is a good time to take stock of what you've built\,
  and decide what to offer the world\, before the cycle begins again\nCost:
  £95. Please bring lunch!\nBooking: for enquiries and booking please cont
 act juno@eden-rooted.co.uk\n\nParking: Parking for this event is in the To
 p-up Car Park shared with Dilston Scouts. (Google Maps directions link\, o
 r What Three Words: pigs.clipped.mills)\nFor more information about visiti
 ng the garden see our Visit Us page. Please get in touch if you have queri
 es/concerns about disability access via info@dilstonphysicgarden.com\n\nTu
 tor: Dr Juno Quaintrell EDEN ROOTED | natural gardens and nature connectio
 n
ATTACH;FMTTYPE=image/jpeg:https://dilstonphysicgarden.com/wp-content/uploa
 ds/2026/03/Juno-10.10.26.jpg
CATEGORIES:Nature,Retreat,wellbeing
LOCATION:Dilston Physic Garden\, Dilston Physic Garden\, Dilston\, Corbridg
 e\, Northumberland\, NE45 5QZ\, United Kingdom
X-APPLE-STRUCTURED-LOCATION;VALUE=URI;X-ADDRESS=Dilston Physic Garden\, Dil
 ston\, Corbridge\, Northumberland\, NE45 5QZ\, United Kingdom;X-APPLE-RADI
 US=100;X-TITLE=Dilston Physic Garden:geo:0,0
END:VEVENT
END:VCALENDAR