BEGIN:VCALENDAR
VERSION:2.0
PRODID:-//wp-events-plugin.com//7.2.3.1//EN
BEGIN:VEVENT
UID:279@dilstonphysicgarden.com
DTSTART:20260628T140000Z
DTEND:20260628T160000Z
DTSTAMP:20260216T144409Z
URL:https://dilstonphysicgarden.com/events/herbs-are-more-than-a-spice-how
 -herbs-help-digestion/
SUMMARY:*Herbs are More Than a Spice - How Herbs Help Digestion*
DESCRIPTION:\nWith this workshop be empowered to take care of your digestiv
 e system\, using herbs as medicine. We'll focus on herbs regulating the wo
 rk of the stomach\, liver and bowels\; talk about how the digestive tract 
 works\, and find out what interventions are useful when. You'll also have 
 an opportunity to explore the beautiful Dilston Physic Garden\, where you 
 can learn and experience much more about herbs.\nEach of Milena's workshop
 s are self-contained and can be booked separately\, including those on the
  same day so you can book on both and enjoy the garden in between.\nCost: 
 £40 (payment on booking)\nParking for workshops and events is in our topu
 p carpark shared with Dilston Scouts - directions and visitor info\n\n\nAb
 out the tutor: Workshop is led by Milena who is a pharmacist\, qualified i
 n Poland where\, as in much of Europe\, plant medicine constitutes a subst
 antial part of the pharmacy stock and are commonly used for the management
  of minor ailments. She is here to share her knowledge and let you take ca
 re of yourself in a natural way!\n\n\nFor bookings please contact: milena.
 kopkowska@gmail.com\n
ATTACH;FMTTYPE=image/jpeg:https://dilstonphysicgarden.com/wp-content/uploa
 ds/2024/02/herbal-teas-for-digestion-NutraTea.jpg
CATEGORIES:Plant Medicine Remedies
LOCATION:Dilston Physic Garden\, Dilston Physic Garden\, Dilston\, Corbridg
 e\, Northumberland\, NE45 5QZ\, United Kingdom
X-APPLE-STRUCTURED-LOCATION;VALUE=URI;X-ADDRESS=Dilston Physic Garden\, Dil
 ston\, Corbridge\, Northumberland\, NE45 5QZ\, United Kingdom;X-APPLE-RADI
 US=100;X-TITLE=Dilston Physic Garden:geo:0,0
END:VEVENT
END:VCALENDAR