BEGIN:VCALENDAR
VERSION:2.0
PRODID:-//wp-events-plugin.com//7.2.3.1//EN
BEGIN:VEVENT
UID:281@dilstonphysicgarden.com
DTSTART:20261004T140000Z
DTEND:20261004T163000Z
DTSTAMP:20260216T144508Z
URL:https://dilstonphysicgarden.com/events/herbs-for-the-common-cold/
SUMMARY:*Herbs for the Common Cold
DESCRIPTION:With this workshop be empowered to take care of yourself and yo
 ur family using a few safe\, popular herbs. This workshop is 2.5 hours pac
 ked with knowledge and practical tips\, exploring properties of herbs whic
 h would enable you to put them to use as medicine to remedy a cold and flu
  symptoms as paracetamol is not the only medicine you can take when you ar
 e full of cold. You'll also have an opportunity to explore the beautiful D
 ilston Physic Garden\,where you can learn and experience much more about h
 erbs.\nEach of Milena's workshops are self-contained and can be booked sep
 arately\, including those on the same day so you can book on both and enjo
 y the garden in between.\nCost: £40 (payment on booking)\nParking for wor
 kshops and events is in our topup carpark shared with Dilston Scouts - d
 irections and visitor info\nAbout the tutor: Workshop is led by Milena who
  is a pharmacist\, qualified in Poland where\, as in much of Europe\, plan
 t medicine constitutes a substantial part of the pharmacy stock and are co
 mmonly used for the management of minor ailments. She is here to share her
  knowledge and let you take care of yourself in a natural way!\nFor bookin
 gs please contact: milena.kopkowska@gmail.com\n
ATTACH;FMTTYPE=image/jpeg:https://dilstonphysicgarden.com/wp-content/uploa
 ds/2025/09/1609_0096.jpg
CATEGORIES:Plant Medicine Remedies
LOCATION:Dilston Physic Garden\, Dilston Physic Garden\, Dilston\, Corbridg
 e\, Northumberland\, NE45 5QZ\, United Kingdom
X-APPLE-STRUCTURED-LOCATION;VALUE=URI;X-ADDRESS=Dilston Physic Garden\, Dil
 ston\, Corbridge\, Northumberland\, NE45 5QZ\, United Kingdom;X-APPLE-RADI
 US=100;X-TITLE=Dilston Physic Garden:geo:0,0
END:VEVENT
END:VCALENDAR