BEGIN:VCALENDAR
VERSION:2.0
PRODID:-//wp-events-plugin.com//7.2.3.1//EN
BEGIN:VEVENT
UID:194@dilstonphysicgarden.com
DTSTART:20241210T100000Z
DTEND:20241211T160000Z
DTSTAMP:20240913T100724Z
URL:https://dilstonphysicgarden.com/events/join-our-community-volunteer-hu
 b-2024-12-10/
SUMMARY:Community Volunteer Hub
DESCRIPTION:Our weekly community gardening and botanical hub is inspired by
  the many benefits we’ve seen volunteer gardening bring to people’s li
 ves over the years. Whether you’re looking to enjoy the immense physical
  and mental benefits of being and working outdoors\, expand your social co
 nnections in a relaxed and supportive environment\, learn more about medic
 inal plants\, or simply want to contribute to a meaningful cause\, volunte
 ering with us allows you to become one with nature—cultivating not just 
 medicinal plants\, but a deeper connection to yourself\, the community and
  the world around you.\n\nBecome a regular volunteer and join when you can
  - every week 10am-4pm on Tuesdays for Gardening and Wednesdays for Botani
 cal Making.\n\nJoin the team or find out more here.
ATTACH;FMTTYPE=image/jpeg:https://dilstonphysicgarden.com/wp-content/uploa
 ds/2024/09/pexels-photo-9324337-9324337-scaled.jpg
LOCATION:Dilston Physic Garden\, Dilston Physic Garden\, Dilston\, Corbridg
 e\, Northumberland\, NE45 5QZ\, United Kingdom
X-APPLE-STRUCTURED-LOCATION;VALUE=URI;X-ADDRESS=Dilston Physic Garden\, Dil
 ston\, Corbridge\, Northumberland\, NE45 5QZ\, United Kingdom;X-APPLE-RADI
 US=100;X-TITLE=Dilston Physic Garden:geo:0,0
END:VEVENT
END:VCALENDAR