BEGIN:VCALENDAR
VERSION:2.0
PRODID:-//wp-events-plugin.com//7.2.3.1//EN
BEGIN:VEVENT
UID:16@dilstonphysicgarden.com
DTSTART:20230812T103000Z
DTEND:20230812T144500Z
DTSTAMP:20240705T083239Z
URL:https://dilstonphysicgarden.com/events/philosophy-as-a-guide-to-life-p
 ersonal-virtues-part-two/
SUMMARY:Philosophy as a Guide to Life: Personal Virtues part 1
DESCRIPTION:\nIn this day course we will start to explore ‘Personal Virtu
 es’. In the first session\, Algerian-French philosopher Jacques Derrida 
 shows us the importance of ‘forgiveness’ in the modern world\, in the 
 second session\, French philosopher and mystic Simone Weil teaches us that
  ‘gratitude’ is more than words\, and in the final session\, medieval 
 philosopher Thomas Aquinas gives us grounds for ‘hope’.\n\n\n\n£36. P
 arking for this event is in the Top-up Car-park shared with Dilston Scouts
 .\n\n\n\nDarren Harper is Philosopher in Residence at Dilston Physic Garde
 n and this event is part of a series running from July 2022 – 2023\n
ATTACH;FMTTYPE=image/jpeg:https://dilstonphysicgarden.com/wp-content/uploa
 ds/2022/10/PGTL1.jpg
LOCATION:Dilston Physic Garden\, Dilston Physic Garden\, Dilston\, Corbridg
 e\, Northumberland\, NE45 5QZ\, United Kingdom
X-APPLE-STRUCTURED-LOCATION;VALUE=URI;X-ADDRESS=Dilston Physic Garden\, Dil
 ston\, Corbridge\, Northumberland\, NE45 5QZ\, United Kingdom;X-APPLE-RADI
 US=100;X-TITLE=Dilston Physic Garden:geo:0,0
END:VEVENT
END:VCALENDAR