BEGIN:VCALENDAR
VERSION:2.0
PRODID:-//wp-events-plugin.com//7.2.3.1//EN
BEGIN:VEVENT
UID:10@dilstonphysicgarden.com
DTSTART:20230408T103000Z
DTEND:20230408T144500Z
DTSTAMP:20240705T083239Z
URL:https://dilstonphysicgarden.com/events/philosophy-as-a-guide-to-life-r
 elationship-virtues/
SUMMARY:Philosophy as a Guide to Life: Relationship Virtues
DESCRIPTION:\n\nInformation to follow.\n\n \n\n£36. Parking for this event
  is in the Top-up Car-park shared with Dilston Scouts.\n\n \n\nDarren Harp
 er is Philosopher in Residence at Dilston Physic Garden and this event is 
 part of a series running from July 2022 – 2023\n\n
LOCATION:Dilston Physic Garden\, Dilston Physic Garden\, Dilston\, Corbridg
 e\, Northumberland\, NE45 5QZ\, United Kingdom
X-APPLE-STRUCTURED-LOCATION;VALUE=URI;X-ADDRESS=Dilston Physic Garden\, Dil
 ston\, Corbridge\, Northumberland\, NE45 5QZ\, United Kingdom;X-APPLE-RADI
 US=100;X-TITLE=Dilston Physic Garden:geo:0,0
END:VEVENT
END:VCALENDAR