BEGIN:VCALENDAR
VERSION:2.0
PRODID:-//wp-events-plugin.com//7.2.3.1//EN
BEGIN:VEVENT
UID:9@dilstonphysicgarden.com
DTSTART:20230311T103000Z
DTEND:20230311T144500Z
DTSTAMP:20240705T083239Z
URL:https://dilstonphysicgarden.com/events/philosophy-as-a-guide-to-life-t
 ragic-virtues-part-two/
SUMMARY:Philosophy as a Guide to Life: Tragic Virtues - Part Two
DESCRIPTION:\nIn this day course we will continue to explore ‘Tragic Virt
 ues’. In the first session\, Danish philosopher Søren Kierkegaard will 
 help us to understand subjective ‘responsibility’\, in the second sess
 ion Russian writer Leo Tolstoy will help us to see the truth in ‘stories
 ’\, and in the final session American poet Emily Dickinson will help us 
 to believe in the value of doubt and ‘uncertainty’.\n\n\n\n£36. Parki
 ng for this event is in the Top-up Car-park shared with Dilston Scouts.\n\
 n\n\nDarren Harper is Philosopher in Residence at Dilston Physic Garden an
 d this event is part of a series running from July 2022 – 2023\n
ATTACH;FMTTYPE=image/jpeg:https://dilstonphysicgarden.com/wp-content/uploa
 ds/2022/10/dickinson2.jpg
LOCATION:Dilston Physic Garden\, Dilston Physic Garden\, Dilston\, Corbridg
 e\, Northumberland\, NE45 5QZ\, United Kingdom
X-APPLE-STRUCTURED-LOCATION;VALUE=URI;X-ADDRESS=Dilston Physic Garden\, Dil
 ston\, Corbridge\, Northumberland\, NE45 5QZ\, United Kingdom;X-APPLE-RADI
 US=100;X-TITLE=Dilston Physic Garden:geo:0,0
END:VEVENT
END:VCALENDAR