BEGIN:VCALENDAR
VERSION:2.0
PRODID:-//wp-events-plugin.com//7.2.3.1//EN
BEGIN:VEVENT
UID:18@dilstonphysicgarden.com
DTSTART:20230617T100000Z
DTEND:20230618T160000Z
DTSTAMP:20240705T083230Z
URL:https://dilstonphysicgarden.com/events/plant-spirit/
SUMMARY:Plant Spirit Medicine*
DESCRIPTION:\nWorking with plants as living evolved beings allows access to
  a deeper medicine. In this way plants can act as our allies and be helpfu
 l not only for physical ailments\, but also on our personal spiritual jour
 ney. Develop your capacity to work intuitively with plants and enter sacre
 d relationship with them. We will use practices that include meditation\, 
 perceiving with the heart and shamanic journeying and will prepare a plant
  essence to take away.\nPlease bring a packed lunch\, camera/sketch pad to
  help identification of plants and waterproofs/ umbrella if it’s wet\; h
 ot drinks provided.\n\n\n\n£110. Parking for all workshops and events is 
 in our Top-up Car park shared with Dilston Scouts – directions.\n
ATTACH;FMTTYPE=image/jpeg:https://dilstonphysicgarden.com/wp-content/uploa
 ds/2022/11/1606_0451-d.jpg
LOCATION:Dilston Physic Garden\, Dilston Physic Garden\, Dilston\, Corbridg
 e\, Northumberland\, NE45 5QZ\, United Kingdom
X-APPLE-STRUCTURED-LOCATION;VALUE=URI;X-ADDRESS=Dilston Physic Garden\, Dil
 ston\, Corbridge\, Northumberland\, NE45 5QZ\, United Kingdom;X-APPLE-RADI
 US=100;X-TITLE=Dilston Physic Garden:geo:0,0
END:VEVENT
END:VCALENDAR