BEGIN:VCALENDAR
VERSION:2.0
PRODID:-//wp-events-plugin.com//7.2.3.1//EN
BEGIN:VEVENT
UID:303@dilstonphysicgarden.com
DTSTART:20260827T100000Z
DTEND:20260827T140000Z
DTSTAMP:20260421T142434Z
URL:https://dilstonphysicgarden.com/events/potion-club-10/
SUMMARY:Potion Club
DESCRIPTION:Join NIMH medical herbalist Davina Hopkinson for a series of fo
 ur enchanting Potion Club sessions throughout 2026. Perfect for curious ch
 ildren aged 8–12\, these interactive clubs offer a fun and magical journ
 ey into the world of medicinal plants and their health benefits. Attend an
 y session individually or experience the full series!\nWhat to Expect:\n\n
  	Hands-On Learning: Discover local plants in gardens\, hedgerows\, and wo
 ods. Forage for ingredients and transform them into real medicinal potions
 !\n 	Seasonal Themes: From spring tonics to autumn remedies\, explore how 
 plants support health year-round.\n 	Interactive Activities: We'll pick a 
 'Plant of the Month'\, learn its uses\, and craft our own potions for tumm
 y aches\, better sleep\, and more.\n 	Stories and History: Dive into the r
 ich history of herbal medicine and enjoy magical folktales\n\n2026 Session
  Dates:\nAll sessions scheduled for school half-term\, and each session un
 ique and packed with exciting surprises! Attend any individually or experi
 ence the full series:\n\n 	Thursday 16th April \n 	Thursday 28th May \n 	T
 hursday 23th July\n 	Thursday 27th August\n\nPlease bring your own packed 
 lunch.\n\nCost: £60 for four or £20 each.\nBooking: To book please conta
 ct davinaherbalist@gmail.com\n\nParking: Parking for this event is in the 
 Top-up Car Park shared with Dilston Scouts. (Google Maps directions link\,
  or What Three Words: pigs.clipped.mills) For more information about visit
 ing the garden see our Visit Us page. Please get in touch if you have quer
 ies/concerns about disability access via info@dilstonphysicgarden.com
ATTACH;FMTTYPE=image/jpeg:https://dilstonphysicgarden.com/wp-content/uploa
 ds/2024/12/potion-club.jpg
CATEGORIES:Plant Medicine Remedies
LOCATION:Dilston Physic Garden\, Dilston Physic Garden\, Dilston\, Corbridg
 e\, Northumberland\, NE45 5QZ\, United Kingdom
X-APPLE-STRUCTURED-LOCATION;VALUE=URI;X-ADDRESS=Dilston Physic Garden\, Dil
 ston\, Corbridge\, Northumberland\, NE45 5QZ\, United Kingdom;X-APPLE-RADI
 US=100;X-TITLE=Dilston Physic Garden:geo:0,0
END:VEVENT
END:VCALENDAR