BEGIN:VCALENDAR
VERSION:2.0
PRODID:-//wp-events-plugin.com//7.2.3.1//EN
BEGIN:VEVENT
UID:199@dilstonphysicgarden.com
DTSTART:20240424T100000Z
DTEND:20240424T140000Z
DTSTAMP:20241208T160114Z
URL:https://dilstonphysicgarden.com/events/potion-club-5/
SUMMARY:Potion Club
DESCRIPTION:Join medical herbalist Davina Hopkinson for a series of four en
 chanting Potion Club sessions throughout 2025. Perfect for curious childre
 n aged 8–12\, these interactive clubs offer a fun and magical journey in
 to the world of plants and their health benefits. Attend any session indiv
 idually or experience the full series!\nWhat to Expect:\n\n 	Hands-On Lear
 ning: Discover local plants in gardens\, hedgerows\, and woods. Forage for
  ingredients and transform them into real medicinal potions!\n 	Seasonal T
 hemes: From spring tonics to autumn remedies\, explore how plants support 
 health year-round.\n 	Interactive Activities: We'll choose a 'Plant of the
  Month'\, learn its uses\, and craft our own potions for tummy aches\, bet
 ter sleep\, and more.\n 	Stories and History: Dive into the rich history o
 f herbal medicine and enjoy magical folktales.\n\nSession Dates:\nAll sche
 duled during school half-terms. Each workshop is unique and packed with ex
 citing surprises! Attend any session individually or experience the full s
 eries:\nThursday 24th April\nThursday 29th May\nThursday 24th July\nThursd
 ay 28th August\n\n&nbsp\;\n\nPlease send booking enquiries to Davina: davi
 naherbalist@gmail.com\n\nPlease bring your own packed lunch. Parking for t
 his event is in the Top-up Car-park shared with Dilston Scouts – direct
 ions.
ATTACH;FMTTYPE=image/jpeg:https://dilstonphysicgarden.com/wp-content/uploa
 ds/2024/12/potion-club.jpg
LOCATION:Dilston Physic Garden\, Dilston Physic Garden\, Dilston\, Corbridg
 e\, Northumberland\, NE45 5QZ\, United Kingdom
X-APPLE-STRUCTURED-LOCATION;VALUE=URI;X-ADDRESS=Dilston Physic Garden\, Dil
 ston\, Corbridge\, Northumberland\, NE45 5QZ\, United Kingdom;X-APPLE-RADI
 US=100;X-TITLE=Dilston Physic Garden:geo:0,0
END:VEVENT
END:VCALENDAR