BEGIN:VCALENDAR
VERSION:2.0
PRODID:-//wp-events-plugin.com//7.2.3.1//EN
BEGIN:VEVENT
UID:201@dilstonphysicgarden.com
DTSTART:20250724T100000Z
DTEND:20250724T140000Z
DTSTAMP:20250124T175927Z
URL:https://dilstonphysicgarden.com/events/potion-club-7/
SUMMARY:Potion Club
DESCRIPTION:Join medical herbalist Davina Hopkinson for a series of four en
 chanting Potion Club sessions throughout 2025. Perfect for curious childre
 n aged 8–12\, these interactive clubs offer a fun and magical journey in
 to the world of plants and their health benefits. Attend any session indiv
 idually or experience the full series!\nWhat to Expect:\n\n 	Hands-On Lear
 ning: Discover local plants in gardens\, hedgerows\, and woods. Forage for
  ingredients and transform them into real medicinal potions!\n 	Seasonal T
 hemes: From spring tonics to autumn remedies\, explore how plants support 
 health year-round.\n 	Interactive Activities: We'll pick a 'Plant of the M
 onth'\, learn its uses\, and craft our own potions for tummy aches\, bette
 r sleep\, and more.\n 	Stories and History: Dive into the rich history of 
 herbal medicine and enjoy magical folktales\n\nSession Dates:\nAll session
 s scheduled for school half-term\, and each session unique and packed with
  exciting surprises! Attend any individually or experience the full series
 :\n\n 	Thursday 24th April \n 	Thursday 29th May \n 	Thursday 24th July\n 
 	Thursday 28th August\n\nAll booking enquiries to Davina: davinaherbalist@
 gmail.com\n\nPlease bring your own packed lunch. Parking for this event is
  in the Top-up Car-park shared with Dilston Scouts – directions.
ATTACH;FMTTYPE=image/jpeg:https://dilstonphysicgarden.com/wp-content/uploa
 ds/2024/12/potion-club.jpg
LOCATION:Dilston Physic Garden\, Dilston Physic Garden\, Dilston\, Corbridg
 e\, Northumberland\, NE45 5QZ\, United Kingdom
X-APPLE-STRUCTURED-LOCATION;VALUE=URI;X-ADDRESS=Dilston Physic Garden\, Dil
 ston\, Corbridge\, Northumberland\, NE45 5QZ\, United Kingdom;X-APPLE-RADI
 US=100;X-TITLE=Dilston Physic Garden:geo:0,0
END:VEVENT
END:VCALENDAR