BEGIN:VCALENDAR
VERSION:2.0
PRODID:-//wp-events-plugin.com//7.2.3.1//EN
BEGIN:VEVENT
UID:282@dilstonphysicgarden.com
DTSTART:20260626T100000Z
DTEND:20260626T161500Z
DTSTAMP:20260213T161311Z
URL:https://dilstonphysicgarden.com/events/reflect-restore-reconnect-a-day
 -of-reflective-practice-in-nature-for-busy-professionals/
SUMMARY:Guest Retreat: Reflect Restore Reconnect - Day of Reflective Practi
 ce in Nature for Busy Professionals
DESCRIPTION:A retreat day for busy professionals to step back\, reflect\, a
 nd reconnect in the inspiring and unique setting of Dilston Physic Garden.
  Guided reflective practices and activities\, supported by Christina and n
 ature as co-facilitator\, invite deeper insight into yourself and your wor
 k\, alongside a walk-and-talk with Dr Nicolette Perry on Botanical Brain B
 alms: Exploring Plant Medicine for the Mind.\nPlease bring your own favour
 ite lunch! Snacks\, treats and drinks will be provided.  Unique herbal dr
 inks are also available to buy from the Physic shop.\nCost: £195 early bi
 rd until 01 April\, then £220\nParking: For workshop and events please us
 e our top-up car park\, thank you! Written directions available here (Goog
 le Maps directions link\, What Three Words: pigs.clipped.mills). Please ge
 t in touch if you have queries/concerns about disability access via info@d
 ilstonphysicgarden.com.\nFor booking enquiries: visit Reflective Retreats 
 in Nature | OrangeCedar Coaching or email christina@orangecedarcoaching.co
 m
ATTACH;FMTTYPE=image/jpeg:https://dilstonphysicgarden.com/wp-content/uploa
 ds/2024/06/celebration-of-summer.jpeg
CATEGORIES:Retreat
LOCATION:Dilston Physic Garden\, Dilston Physic Garden\, Dilston\, Corbridg
 e\, Northumberland\, NE45 5QZ\, United Kingdom
X-APPLE-STRUCTURED-LOCATION;VALUE=URI;X-ADDRESS=Dilston Physic Garden\, Dil
 ston\, Corbridge\, Northumberland\, NE45 5QZ\, United Kingdom;X-APPLE-RADI
 US=100;X-TITLE=Dilston Physic Garden:geo:0,0
END:VEVENT
END:VCALENDAR