BEGIN:VCALENDAR
VERSION:2.0
PRODID:-//wp-events-plugin.com//7.2.3.1//EN
BEGIN:VEVENT
UID:6@dilstonphysicgarden.com
DTSTART:20221119T100000Z
DTEND:20221119T160000Z
DTSTAMP:20240705T083239Z
URL:https://dilstonphysicgarden.com/events/roots-medicine/
SUMMARY:Roots Medicine
DESCRIPTION:Explore plants long valued for the medicinal properties of thei
 r roots. Get involved in harvesting and trying out ways of processing and 
 using them to create some powerful plant medicines\, from dandelion and bu
 rdock to the mysterious aromas of elecampane\, to the deep wound-healing q
 ualities of comfrey and sleep-inducing powers of valerian.\n\n£45. Parkin
 g for all workshops and events is in our Top-up Car park shared with Dilst
 on Scouts
ATTACH;FMTTYPE=image/jpeg:https://dilstonphysicgarden.com/wp-content/uploa
 ds/2020/04/Valerian-root-s.jpg
LOCATION:Dilston Physic Garden\, Dilston Physic Garden\, Dilston\, Corbridg
 e\, Northumberland\, NE45 5QZ\, United Kingdom
X-APPLE-STRUCTURED-LOCATION;VALUE=URI;X-ADDRESS=Dilston Physic Garden\, Dil
 ston\, Corbridge\, Northumberland\, NE45 5QZ\, United Kingdom;X-APPLE-RADI
 US=100;X-TITLE=Dilston Physic Garden:geo:0,0
END:VEVENT
END:VCALENDAR