BEGIN:VCALENDAR
VERSION:2.0
PRODID:-//wp-events-plugin.com//7.2.3.1//EN
BEGIN:VEVENT
UID:196@dilstonphysicgarden.com
DTSTART:20241020T100000Z
DTEND:20241020T160000Z
DTSTAMP:20241003T102733Z
URL:https://dilstonphysicgarden.com/events/samhain-day-retreat/
SUMMARY:Samhain Day Retreat
DESCRIPTION:Samhain (pronounced "sow-in") is an ancient Celtic festival mar
 king the end of the harvest season and the start of winter\, traditionally
  celebrated on October 31st. It’s a time when the veil between the physi
 cal and spiritual worlds is believed to be at its thinnest\, offering a ch
 ance to reflect on the cycles of life\, death\, and rebirth.\n\nJoin us in
  our serene garden to honour the ancient traditions of Samhain. The day wi
 ll include a plant medicine walk to connect with nature\, a shamanic journ
 ey for deep inner exploration\, a sound bath to harmonise the mind and bod
 y\, breathwork for grounding\, and mindful movement to integrate the exper
 ience.\n\nIn spirit of the gathering\, please bring a dish for a shared co
 mmunal lunch!\n\nParking will be in the overflow car park. Find directions
  here: Parking – Dilston Physic Garden\n\nThis special program will be l
 ed by guest facilitators Jill and Neil. For further details about the even
 t\, its facilitators and to book\, please visit Jill's website: *Samhain D
 ay Retreat - Dilston Physic Garden* - Organic Pilates and Holistic Health
ATTACH;FMTTYPE=image/jpeg:https://dilstonphysicgarden.com/wp-content/uploa
 ds/2024/10/Leaf-Medley-s.jpg
LOCATION:Dilston Physic Garden\, Dilston Physic Garden\, Dilston\, Corbridg
 e\, Northumberland\, NE45 5QZ\, United Kingdom
X-APPLE-STRUCTURED-LOCATION;VALUE=URI;X-ADDRESS=Dilston Physic Garden\, Dil
 ston\, Corbridge\, Northumberland\, NE45 5QZ\, United Kingdom;X-APPLE-RADI
 US=100;X-TITLE=Dilston Physic Garden:geo:0,0
END:VEVENT
END:VCALENDAR