BEGIN:VCALENDAR
VERSION:2.0
PRODID:-//wp-events-plugin.com//7.2.3.1//EN
BEGIN:VEVENT
UID:300@dilstonphysicgarden.com
DTSTART:20261002T130000Z
DTEND:20261002T150000Z
DTSTAMP:20260415T175912Z
URL:https://dilstonphysicgarden.com/events/traditional-uses-of-plants-for-
 food-medicine-and-ceremony-by-indigenous-people-of-the-prairie-with-ethnob
 otanist-rachel-liester/
SUMMARY:Prairie Plants and Native American Ethnobotany Class\, with ethnobo
 tanist Rachel Liester
DESCRIPTION:\n\n\n\n\n\n\nCultural exchange promotes greater understanding 
 of humankind\, enriches our lives with diversity and broadens our global p
 erspective. Learning about indigenous plant relationships helps us be bett
 er stewards of mother earth and deepens our respect for "the standing peop
 le“.\n\n\nRachel Liester is an ethnobotanist and bioregional herbal educ
 ator from Nebraska. She visited the physic garden in 2025 and will be retu
 rning to teach about the traditional uses of plants for food\, medicine an
 d ceremony by indigenous people of the prairie. Over the past two decades 
 she has been a student of Jerome Kills Small\, an Oglala Lakota wisdom-kee
 per who generously shares his knowledge and has given informed consent to 
 pass on his knowledge to you.\n\nCost: £25 - please email info@dilstonphy
 sicgarden to book your place.\n\nParking: For workshop and events please 
 use our top-up car park. Thank you! Written directions available here (Go
 ogle Maps directions link\, What Three Words: pigs.clipped.mills). Please
  get in touch if you have queries/concerns about disability access via inf
 o@dilstonphysicgarden.com.\nTutor: To learn more about Rachel you can visi
 t www.redroadherbs.com or Red Road Herbs Retreat &amp\; Learning Center o
 n Facebook.\n\n\n\n\n\n\n
ATTACH;FMTTYPE=image/jpeg:https://dilstonphysicgarden.com/wp-content/uploa
 ds/2026/04/Rachel-with-bouquet-of-nettle.jpg.jpeg
CATEGORIES:History of Plant Medicine
LOCATION:Dilston Physic Garden\, Dilston Physic Garden\, Dilston\, Corbridg
 e\, Northumberland\, NE45 5QZ\, United Kingdom
X-APPLE-STRUCTURED-LOCATION;VALUE=URI;X-ADDRESS=Dilston Physic Garden\, Dil
 ston\, Corbridge\, Northumberland\, NE45 5QZ\, United Kingdom;X-APPLE-RADI
 US=100;X-TITLE=Dilston Physic Garden:geo:0,0
END:VEVENT
END:VCALENDAR