BEGIN:VCALENDAR
VERSION:2.0
PRODID:-//wp-events-plugin.com//7.2.3.1//EN
BEGIN:VEVENT
UID:7@dilstonphysicgarden.com
DTSTART:20221218T090000Z
DTEND:20221218T150000Z
DTSTAMP:20240705T083239Z
URL:https://dilstonphysicgarden.com/events/winter-solstice-labyrinth-day/
SUMMARY:Winter Solstice Labyrinth Day
DESCRIPTION:Working with the Great Bear and the labyrinth explore this dark
  time of the year and the turning point when we come out of the darkness o
 f winter to the sun returning on her glorious path.\nThe bear is seen as t
 he fierce protector and also the constellation in the sky we can easily se
 e at this time. What better way to spend this day working with her energie
 s\, preparing us for the time of Christmas\, a day away from all the mater
 ial madness.\n£60\, early bird bookings £50 (bookings made by 5th Novemb
 er ’22). Please bring outdoor clothing + torch (we will be working outsi
 de) and a vegetarian lunch to share\, drinks are provided. To book contact
  via website or email headland.christine@yahoo.co.uk\nParking for all work
 shops and events is in the Top-up Car park shared with Dilston Scouts
ATTACH;FMTTYPE=image/jpeg:https://dilstonphysicgarden.com/wp-content/uploa
 ds/2020/02/Labyrinth-at-Dilston-Physic-Garden.jpg
LOCATION:Dilston Physic Garden\, Dilston Physic Garden\, Dilston\, Corbridg
 e\, Northumberland\, NE45 5QZ\, United Kingdom
X-APPLE-STRUCTURED-LOCATION;VALUE=URI;X-ADDRESS=Dilston Physic Garden\, Dil
 ston\, Corbridge\, Northumberland\, NE45 5QZ\, United Kingdom;X-APPLE-RADI
 US=100;X-TITLE=Dilston Physic Garden:geo:0,0
END:VEVENT
END:VCALENDAR