BEGIN:VCALENDAR
VERSION:2.0
PRODID:-//wp-events-plugin.com//7.2.3.1//EN
BEGIN:VEVENT
UID:8@dilstonphysicgarden.com
DTSTART:20221217T140000Z
DTEND:20221217T170000Z
DTSTAMP:20240705T083239Z
URL:https://dilstonphysicgarden.com/events/winter-solstice/
SUMMARY:Winter Solstice
DESCRIPTION:Independently run by local members of druids this event is part
  of a series of 8 which explore and deepen awareness of earth-centred spir
 itual heritage\, symbolically celebrating the wheel of the year.\n\nFrom t
 he earliest times our ancestors have welcomed the rebirth of the sun at th
 e darkest point of the year. In the same spirit we gather to first mourn t
 he death of the sun and let go of that which is ending and dying. Then\, t
 hrough a ceremony which symbolically enacts the turning of the year from d
 arkness to light\, we celebrate the fact that life will ever spring up in 
 a new dawn.\n\nAdmission free – donations appreciated. Parking for this 
 event is in the Top-up Car-park shared with Dilston Scouts
ATTACH;FMTTYPE=image/jpeg:https://dilstonphysicgarden.com/wp-content/uploa
 ds/2022/10/sculpture-2.png
LOCATION:Dilston Physic Garden\, Dilston Physic Garden\, Dilston\, Corbridg
 e\, Northumberland\, NE45 5QZ\, United Kingdom
X-APPLE-STRUCTURED-LOCATION;VALUE=URI;X-ADDRESS=Dilston Physic Garden\, Dil
 ston\, Corbridge\, Northumberland\, NE45 5QZ\, United Kingdom;X-APPLE-RADI
 US=100;X-TITLE=Dilston Physic Garden:geo:0,0
END:VEVENT
END:VCALENDAR